BEGIN:VCALENDAR
VERSION:2.0
PRODID:-//OpenTeams: Open SaaS AI Solutions | Own Your Future with Open Source - ECPv6.15.20//NONSGML v1.0//EN
CALSCALE:GREGORIAN
METHOD:PUBLISH
X-ORIGINAL-URL:https://openteams.com
X-WR-CALDESC:Events for OpenTeams: Open SaaS AI Solutions | Own Your Future with Open Source
REFRESH-INTERVAL;VALUE=DURATION:PT1H
X-Robots-Tag:noindex
X-PUBLISHED-TTL:PT1H
BEGIN:VTIMEZONE
TZID:UTC
BEGIN:STANDARD
TZOFFSETFROM:+0000
TZOFFSETTO:+0000
TZNAME:UTC
DTSTART:20240101T000000
END:STANDARD
END:VTIMEZONE
BEGIN:VEVENT
DTSTART;TZID=UTC:20250417T120000
DTEND;TZID=UTC:20250417T130000
DTSTAMP:20260424T005654
CREATED:20250409T081538Z
LAST-MODIFIED:20260223T104304Z
UID:10000005-1744891200-1744894800@openteams.com
SUMMARY:Beyond Dependency Scanning: How OpenTeams Score Quantifies Open Source Risk
DESCRIPTION:This session provides a practical demonstration of OpenTeams Score\, a platform that evaluates and quantifies technical risks in projects dependent on open source software. The demonstration shows how OpenTeams Score analyzes dependency health\, project maturity\, and security metrics to enable informed decision-making about open source adoption. \n\nRegister For Free \nAbout the Speaker\nSean Ross-Ross is a Senior Solutions Architect at OpenTeams with 15+ years in software engineering and technology leadership. Previously\, he served as CTO at Plantiga\, developing hardware-backed biomechanics coaching solutions\, and held senior engineering roles at Tableau Software and Anaconda\, where he helped create the Anaconda data science platform. Based in British Columbia\, his expertise spans machine learning\, AI\, and data science. \nAbout the Open Source Architect Community\nThe Open Source Architect (OSA) Community is an invitation-only group for seasoned software architects who are passionate about open source technology. For the latest updates on all things open source\, follow our public feed on LinkedIn.
URL:https://openteams.com/event/beyond-dependency-scanning-how-openteams-score-quantifies-open-source-risk/
ATTACH;FMTTYPE=image/png:https://openteams.com/wp-content/uploads/2025/04/Announcement.png
LOCATION:https://openteams.com/event/beyond-dependency-scanning-how-openteams-score-quantifies-open-source-risk/
END:VEVENT
END:VCALENDAR