BEGIN:VCALENDAR
VERSION:2.0
PRODID:-//OpenTeams: Open SaaS AI Solutions | Own Your Future with Open Source - ECPv6.15.20//NONSGML v1.0//EN
CALSCALE:GREGORIAN
METHOD:PUBLISH
X-WR-CALNAME:OpenTeams: Open SaaS AI Solutions | Own Your Future with Open Source
X-ORIGINAL-URL:https://openteams.com
X-WR-CALDESC:Events for OpenTeams: Open SaaS AI Solutions | Own Your Future with Open Source
REFRESH-INTERVAL;VALUE=DURATION:PT1H
X-Robots-Tag:noindex
X-PUBLISHED-TTL:PT1H
BEGIN:VTIMEZONE
TZID:UTC
BEGIN:STANDARD
TZOFFSETFROM:+0000
TZOFFSETTO:+0000
TZNAME:UTC
DTSTART:20250101T000000
END:STANDARD
END:VTIMEZONE
BEGIN:VEVENT
DTSTART;TZID=UTC:20260115T120000
DTEND;TZID=UTC:20260115T130000
DTSTAMP:20260423T121316
CREATED:20260112T202928Z
LAST-MODIFIED:20260223T102816Z
UID:10000015-1768478400-1768482000@openteams.com
SUMMARY:Lazy Buckaroo: Analyze Big Data on Your Laptop
DESCRIPTION:Big datasets don’t wait for your RAM to catch up. When local files brush up against memory limits\, most tools buckle\, forcing you into blind sampling and guesswork. Buckaroo flips the script by rendering only what’s visible\, leaning on Polars’ lazy engine for the heavy lifting\, and surfacing insights in real time as the UI updates.\nIn this talk\, Paddy Mullen will walk us through how Buckaroo makes large-scale\, local data exploration fast\, fluid\, and surprisingly joyful. No clusters. No cloud. Your favorite laptop is all you need. \n\nRegister for Free \nAbout the Speaker \nPaddy Mullen is a full‑stack engineer and data‑tooling builder. An early employee at Anaconda\, he contributed to the Bokeh visualization library. He has built data tools and led teams at hedge funds and startups. Since 2023 he has been developing Buckaroo\, an interactive dataframe viewer for notebook environments. \nAbout the Open Source Architect Community \nThe Open Source Architect (OSA) Community is an invitation-only group for seasoned software architects who are passionate about open source technology. Request to join the OSA Community: https://forms.gle/7efbynVzYhhH2LCQ7\nWe review each application carefully. If it’s a fit\, you’ll get an invite to join the space where it all happens.\nFor the latest updates on all things open source\, follow our public feed on LinkedIn.
URL:https://openteams.com/event/lazy-buckaroo-analyze-big-data-on-your-laptop/
ATTACH;FMTTYPE=image/png:https://openteams.com/wp-content/uploads/2026/01/Paddy-Mullen-OSAC-Featured-image.png
LOCATION:https://openteams.com/event/lazy-buckaroo-analyze-big-data-on-your-laptop/
END:VEVENT
END:VCALENDAR