BEGIN:VCALENDAR
VERSION:2.0
PRODID:-//OpenTeams: Open SaaS AI Solutions | Own Your Future with Open Source - ECPv6.15.20//NONSGML v1.0//EN
CALSCALE:GREGORIAN
METHOD:PUBLISH
X-WR-CALNAME:OpenTeams: Open SaaS AI Solutions | Own Your Future with Open Source
X-ORIGINAL-URL:https://openteams.com
X-WR-CALDESC:Events for OpenTeams: Open SaaS AI Solutions | Own Your Future with Open Source
REFRESH-INTERVAL;VALUE=DURATION:PT1H
X-Robots-Tag:noindex
X-PUBLISHED-TTL:PT1H
BEGIN:VTIMEZONE
TZID:UTC
BEGIN:STANDARD
TZOFFSETFROM:+0000
TZOFFSETTO:+0000
TZNAME:UTC
DTSTART:20240101T000000
END:STANDARD
END:VTIMEZONE
BEGIN:VEVENT
DTSTART;TZID=UTC:20250320T120000
DTEND;TZID=UTC:20250320T130000
DTSTAMP:20260423T162438
CREATED:20250311T070018Z
LAST-MODIFIED:20260223T104344Z
UID:10000004-1742472000-1742475600@openteams.com
SUMMARY:Going Solo: How to Launch and Scale Your Data Strategy and Infra Consulting Business
DESCRIPTION:Starting your own consulting company can sound exciting. You get to be in control! You get to choose which projects you take on! \nOnce you leap\, you’ll quickly find out that there are a lot of challenges and unexpected responsibilities in going solo. You must learn how to market and sell your services\, negotiate contracts\, and more. \nJoin us for a fireside chat with Ben Rogojan as he shares his insights—both triumphs and setbacks—to inspire and prepare you for the exciting journey of becoming a solopreneur specializing in data strategy and infrastructure. \n\nRegister For Free \nAbout the Speaker\nBen is a seasoned data engineer passionate about building simple\, scalable\, and maintainable end-to-end data solutions. Drawing from his extensive experience working at various companies\, including Meta\, and across multiple industries\, he helps his clients design\, modernize\, and optimize their data infrastructure.\nYou may also know him as the Seattle Data Guy through his popular weekly newsletter\, videos\, and other content that has garnered over 300k followers across multiple platforms. \nAbout the Open Source Architect Community\nThe Open Source Architect (OSA) Community is an invitation-only group for seasoned software architects who are passionate about open source technology. For the latest updates on all things open source\, follow our public feed on LinkedIn.
URL:https://openteams.com/event/going-solo-how-to-launch-and-scale-your-data-strategy-and-infra-consulting-business/
ATTACH;FMTTYPE=image/png:https://openteams.com/wp-content/uploads/2025/03/Ben-Webinar-1.png
LOCATION:https://openteams.com/event/going-solo-how-to-launch-and-scale-your-data-strategy-and-infra-consulting-business/
END:VEVENT
BEGIN:VEVENT
DTSTART;TZID=UTC:20250220T120000
DTEND;TZID=UTC:20250220T130000
DTSTAMP:20260423T162438
CREATED:20250206T125649Z
LAST-MODIFIED:20260223T104421Z
UID:10000002-1740052800-1740056400@openteams.com
SUMMARY:Node.js: More Threads Than You Think
DESCRIPTION:Node.js was announced in 2009 as a single-threaded JavaScript runtime. In 2018\, it became multi-threaded\, and no one noticed. What can worker_threads do? What are they useful for? What’s the best way of communicating between two threads? Scaling Node.js applications efficiently has long been a challenge for teams. Traditionally\, Node.js runs on a single thread per service\, meaning each instance operates as a single process within its container. This forces teams to overprovision infrastructure to handle unpredictable traffic spikes\, leading to wasted resources and increased costs. The single-threaded nature of Node.js can pose performance risks; if a thread blocks its event loop due to a computationally heavy operation or a sudden traffic spike\, it can cause downtime or degrade user experience. This raises a crucial question: How can teams optimize Node.js resource utilization to reduce costs without compromising performance or risking downtime? In this talk\, we will explore multi-threaded Node\, showing devs what they need to know to properly leverage multithreading. \n\nRegister For Free \nAbout the Speaker\nWith over 15 years of software engineering experience\, Matteo is known throughout the open source community for his work authoring the Fastify web framework\, the fast logger Pino\, and his contributions to Node.js. Matteo is a member of the Node.js Technical Steering Committee and is an active open source author in the JavaScript ecosystem\, with modules he maintains being downloaded over 12 billion times per year. \nAbout the Open Source Architect Community\nThe Open Source Architect (OSA) Community is an invitation-only group for seasoned software architects who are passionate about open source technology. For the latest updates on all things open source\, follow our public feed on LinkedIn.
URL:https://openteams.com/event/node-js-more-threads-than-you-think/
ATTACH;FMTTYPE=image/png:https://openteams.com/wp-content/uploads/2025/02/Matteo-Collina-Webinar.png
LOCATION:https://openteams.com/event/node-js-more-threads-than-you-think/
END:VEVENT
BEGIN:VEVENT
DTSTART;TZID=UTC:20250116T120000
DTEND;TZID=UTC:20250116T130000
DTSTAMP:20260423T162438
CREATED:20241215T015749Z
LAST-MODIFIED:20260223T104514Z
UID:10000001-1737028800-1737032400@openteams.com
SUMMARY:JuliaSim: Building a Product Which Improves Open Source Sustainability
DESCRIPTION:How do you prevent a “tragedy of the commons” and develop an ecosystem where maintainers of an open source project can thrive while continuing to support the community? In this talk\, we will discuss JuliaSim\, a product built by the developers from the Julia SciML open source organization in close collaboration with the Julia core compiler developers. \nWe will discuss how this product’s scope is defined to include the open source elements\, how certain extensions to the open source are productized\, but also how the release of much of the code as open has influenced and improved its business model.This discussion will highlight the complementary aspects of open source with startups\nand serve as a discussion point as to the pros and cons of how open source can be anchored by non-academic communities. \n\nRegister Here \nAbout the Speaker\nDr. Chris Rackauckas is the VP of Modeling and Simulation at JuliaHub\, the Director of Scientific Research at Pumas-AI\, Co-PI of the Julia Lab at MIT\, and the lead developer of the SciML Open Source Software Organization. He is a recipient of the US Air Force Artificial Intelligence Accelerator Scientific Excellence Award for his work in mechanistic machine learning. Chris is also the lead developer of the Pumas project and has received a top presentation award at every ACoP in the last 3 years for improving methods for uncertainty quantification\, automated GPU acceleration of nonlinear mixed effects modeling (NLME)\, and machine learning assisted construction of NLME models with DeepNLME. For all these achievements\, Chris received the Emerging Scientist award from ISoP. For more about Chris and his work\, visit: https://chrisrackauckas.com \nAbout the Open Source Architect Community\nThe Open Source Architect (OSA) Community is an invitation-only group for seasoned software architects who are passionate about open source technology. The OSA community is powered by OpenTeams\, the host of this event. Connect with us on LinkedIn.
URL:https://openteams.com/event/juliasim-building-a-product-which-improves-open-source-sustainability/
ATTACH;FMTTYPE=image/png:https://openteams.com/wp-content/uploads/2024/12/New-Layout-of-Webinars-2.png
LOCATION:https://openteams.com/event/juliasim-building-a-product-which-improves-open-source-sustainability/
END:VEVENT
END:VCALENDAR