BEGIN:VCALENDAR
VERSION:2.0
PRODID:-//OpenTeams: Open SaaS AI Solutions | Own Your Future with Open Source - ECPv6.15.20//NONSGML v1.0//EN
CALSCALE:GREGORIAN
METHOD:PUBLISH
X-ORIGINAL-URL:https://openteams.com
X-WR-CALDESC:Events for OpenTeams: Open SaaS AI Solutions | Own Your Future with Open Source
REFRESH-INTERVAL;VALUE=DURATION:PT1H
X-Robots-Tag:noindex
X-PUBLISHED-TTL:PT1H
BEGIN:VTIMEZONE
TZID:UTC
BEGIN:STANDARD
TZOFFSETFROM:+0000
TZOFFSETTO:+0000
TZNAME:UTC
DTSTART:20240101T000000
END:STANDARD
END:VTIMEZONE
BEGIN:VEVENT
DTSTART;TZID=UTC:20250515T120000
DTEND;TZID=UTC:20250515T130000
DTSTAMP:20260423T215914
CREATED:20250430T194844Z
LAST-MODIFIED:20260223T104214Z
UID:10000006-1747310400-1747314000@openteams.com
SUMMARY:Pixi: Where Reproducibility and Collaboration Come Together
DESCRIPTION:Managing software environments today often feels like stitching together a patchwork of tools — each comes with its own dependencies and quirks. For teams\, this modular setup often leads to inconsistent environments\, onboarding headaches\, and bloated READMEs. \nEnter Pixi — an all-in-one package and workflow manager powered by Rust and conda. Whether you’re working solo or with a team\, Pixi streamlines your workflow and removes the friction from project setup and sharing. \nWith Pixi\, you get: \n\nOne command to spin up a project and its environment\nA powerful built-in task runner for automation and collaboration\nCross-platform support and lightning-fast performance\nA single tool to replace `conda`\, `pip`\, `task/just`\, `homebrew`\, `apt`\, and `winget`\n\nJoin our event with Ruben Arts to explore how Pixi is reshaping developer workflows. \n\nRegister For Free \nAbout the Speaker\nWith an academic background in Mechatronics\, Ruben Arts spent several years applying his knowledge and skills in the robotics industry. During this time\, he experienced firsthand how fragmented package management systems hinder developer productivity and collaboration. This sparked his interest in package management and led him to join prefix.dev\, a company dedicated to improving the developer experience through modern package management solutions. Ruben plays a central role in maintaining the Pixi codebase\, an open-source project aimed at streamlining environment and dependency management\, and supporting its growing contributor community. \nAbout the Open Source Architect Community\nThe Open Source Architect (OSA) Community is an invitation-only group for seasoned software architects who are passionate about open source technology. For the latest updates on all things open source\, follow our public feed on LinkedIn.
URL:https://openteams.com/event/pixi-where-reproducibility-and-collaboration-come-together/
ATTACH;FMTTYPE=image/png:https://openteams.com/wp-content/uploads/2025/04/Announcement-1-1.png
LOCATION:https://openteams.com/event/pixi-where-reproducibility-and-collaboration-come-together/
END:VEVENT
END:VCALENDAR